BEGIN:VCALENDAR
VERSION:2.0
PRODID:-//Florida Gateway Fairgrounds formerly Columbia County Fairgrounds - ECPv6.15.20//NONSGML v1.0//EN
CALSCALE:GREGORIAN
METHOD:PUBLISH
X-WR-CALNAME:Florida Gateway Fairgrounds formerly Columbia County Fairgrounds
X-ORIGINAL-URL:https://floridagatewayfairgrounds.org
X-WR-CALDESC:Events for Florida Gateway Fairgrounds formerly Columbia County Fairgrounds
REFRESH-INTERVAL;VALUE=DURATION:PT1H
X-Robots-Tag:noindex
X-PUBLISHED-TTL:PT1H
BEGIN:VTIMEZONE
TZID:America/New_York
BEGIN:DAYLIGHT
TZOFFSETFROM:-0500
TZOFFSETTO:-0400
TZNAME:EDT
DTSTART:20230312T070000
END:DAYLIGHT
BEGIN:STANDARD
TZOFFSETFROM:-0400
TZOFFSETTO:-0500
TZNAME:EST
DTSTART:20231105T060000
END:STANDARD
BEGIN:DAYLIGHT
TZOFFSETFROM:-0500
TZOFFSETTO:-0400
TZNAME:EDT
DTSTART:20240310T070000
END:DAYLIGHT
BEGIN:STANDARD
TZOFFSETFROM:-0400
TZOFFSETTO:-0500
TZNAME:EST
DTSTART:20241103T060000
END:STANDARD
BEGIN:DAYLIGHT
TZOFFSETFROM:-0500
TZOFFSETTO:-0400
TZNAME:EDT
DTSTART:20250309T070000
END:DAYLIGHT
BEGIN:STANDARD
TZOFFSETFROM:-0400
TZOFFSETTO:-0500
TZNAME:EST
DTSTART:20251102T060000
END:STANDARD
END:VTIMEZONE
BEGIN:VEVENT
DTSTART;TZID=America/New_York:20241025T170000
DTEND;TZID=America/New_York:20241103T210000
DTSTAMP:20260425T131802
CREATED:20240828T131843Z
LAST-MODIFIED:20240828T131843Z
UID:2615-1729875600-1730667600@floridagatewayfairgrounds.org
SUMMARY:70th Annual Florida Gateway Fair and Livestock Show
DESCRIPTION:The 70th Annual Florida Gateway Fair and Livestock show will start on Friday\, October 25\, 2024\, and run through Sunday\, November 3\, 2024. Have fun on the midway with its games and rides! Visit the food court for all of your favorite vendors and stop in to see local businesses in the exhibit hall. Don’t forget to visit the livestock barn to see cows\, goats and pigs\, and the kids that have diligently worked with these animals.\nThis year we are thrilled to be joined by two country music artists at the 1st Street Music Entertainment Stage. Karley Scott Collins\, exciting country newcomer\, will be performing on Saturday\, October 26th and Chase Matthew\, Nashville’s hottest newcomer\, will be performing on Saturday\, November 2nd.\nPurchase your tickets in advance: Advanced Tickets\nCalling all Artists and Crafters! We want to see your work at the fair. Visit the link below and read over the guide for more information.Arts and Crafts Contest – Rules and Information: coming soon\nMonday – Friday: Gates open at 5:00pmSaturday & Sunday: Gates open at 12:00pm (noon)\nYou can check out the Florida Gateway Fairgrounds Facebook page to stay up-to-date: Florida Gateway Fairgrounds FacebookOr visit our website for more information: Florida Gateway Fairgrounds
URL:https://floridagatewayfairgrounds.org/event/70th-annual-florida-gateway-fair-and-livestock-show/
LOCATION:MIDWAY
ORGANIZER;CN="Florida Gateway Fairgrounds":MAILTO:info@floridagatewayfairgrounds.org
END:VEVENT
END:VCALENDAR