BEGIN:VCALENDAR
VERSION:2.0
PRODID:-//Florida Gateway Fairgrounds formerly Columbia County Fairgrounds - ECPv6.15.20//NONSGML v1.0//EN
CALSCALE:GREGORIAN
METHOD:PUBLISH
X-WR-CALNAME:Florida Gateway Fairgrounds formerly Columbia County Fairgrounds
X-ORIGINAL-URL:https://floridagatewayfairgrounds.org
X-WR-CALDESC:Events for Florida Gateway Fairgrounds formerly Columbia County Fairgrounds
REFRESH-INTERVAL;VALUE=DURATION:PT1H
X-Robots-Tag:noindex
X-PUBLISHED-TTL:PT1H
BEGIN:VTIMEZONE
TZID:America/New_York
BEGIN:DAYLIGHT
TZOFFSETFROM:-0500
TZOFFSETTO:-0400
TZNAME:EDT
DTSTART:20240310T070000
END:DAYLIGHT
BEGIN:STANDARD
TZOFFSETFROM:-0400
TZOFFSETTO:-0500
TZNAME:EST
DTSTART:20241103T060000
END:STANDARD
BEGIN:DAYLIGHT
TZOFFSETFROM:-0500
TZOFFSETTO:-0400
TZNAME:EDT
DTSTART:20250309T070000
END:DAYLIGHT
BEGIN:STANDARD
TZOFFSETFROM:-0400
TZOFFSETTO:-0500
TZNAME:EST
DTSTART:20251102T060000
END:STANDARD
BEGIN:DAYLIGHT
TZOFFSETFROM:-0500
TZOFFSETTO:-0400
TZNAME:EDT
DTSTART:20260308T070000
END:DAYLIGHT
BEGIN:STANDARD
TZOFFSETFROM:-0400
TZOFFSETTO:-0500
TZNAME:EST
DTSTART:20261101T060000
END:STANDARD
BEGIN:DAYLIGHT
TZOFFSETFROM:-0500
TZOFFSETTO:-0400
TZNAME:EDT
DTSTART:20270314T070000
END:DAYLIGHT
BEGIN:STANDARD
TZOFFSETFROM:-0400
TZOFFSETTO:-0500
TZNAME:EST
DTSTART:20271107T060000
END:STANDARD
END:VTIMEZONE
BEGIN:VEVENT
DTSTART;TZID=America/New_York:20260207T080000
DTEND;TZID=America/New_York:20260207T170000
DTSTAMP:20260422T070456
CREATED:20251216T201245Z
LAST-MODIFIED:20251216T202610Z
UID:2858-1770451200-1770483600@floridagatewayfairgrounds.org
SUMMARY:2026 SCNA Poultry Nationals
DESCRIPTION:Tabletop & Double Card In Cage Shows
URL:https://floridagatewayfairgrounds.org/event/2026-scna-poultry-nationals/
LOCATION:Exhibit Building B
CATEGORIES:Exhibit Building B,Not Organized by Florida Gateway Fairgrounds
ORGANIZER;CN="Serama Council of North America":MAILTO:floridascna@scnaonline.com
END:VEVENT
BEGIN:VEVENT
DTSTART;VALUE=DATE:20260109
DTEND;VALUE=DATE:20260112
DTSTAMP:20260422T070456
CREATED:20250708T163410Z
LAST-MODIFIED:20251216T202556Z
UID:2787-1767916800-1768175999@floridagatewayfairgrounds.org
SUMMARY:9th Annual Sunshine State Classic Goat Show
DESCRIPTION:Welcome to the 9th Annual Sunshine State Classic!\nOur venue this year will again be at the Florida Gateway Fairgrounds at 164 SW Mary Ethel Lane\, Lake City\, Florida!\n\nHosting 3 ABGA Shows and Youth Jackpot Show Sunday! We will have our annual Michelle Speight Memorial High Point Award\, silent auction\, and vendors too!\n\nOverall Buckles for Percentage Doe\, Fullblood Doe\, and Buck!\n\nJoin us Saturday during the break we will be providing a lunch!\n\nFollow our Sunshine State Classic Facebook page to stay up to date on show information and will be using ShowmanApp as it gets closer to the show that will be posted as well.\n\nSunday\, TBA\, we will have our Jackpot Show for Commercial Does and Market Wethers. This show will be open to youth exhibits in and out of state. That show will have Showmanship in the morning followed by the Commercial Doe and Market Wether Divisions. Showmanship Buckles! Payouts! Awards!\n\nIf you’re interested in becoming a show sponsor send me a message! These shows are not possible without some great sponsorship! This is a great opportunity to advertise your business or farm! There are different levels of sponsorship as well as openings to be a show award sponsor and/or buckle sponsor!\n\nWe had a fantastic show last December and hope to have the same great turnout again! If you have any questions please feel free to shoot me a message\, email\, or give me a call.
URL:https://floridagatewayfairgrounds.org/event/9th-annual-sunshine-state-classic-goat-show/
LOCATION:Livestock Barn
CATEGORIES:Not Organized by Florida Gateway Fairgrounds
END:VEVENT
BEGIN:VEVENT
DTSTART;VALUE=DATE:20260109
DTEND;VALUE=DATE:20260112
DTSTAMP:20260422T070456
CREATED:20251216T193750Z
LAST-MODIFIED:20251216T202312Z
UID:2854-1767916800-1768175999@floridagatewayfairgrounds.org
SUMMARY:2026 Florida Sunshine Classic DOUBLE POULTRY SHOW
DESCRIPTION:The Florida Sunshine Classic is held to promote the hobby of breeding\, raising and showing purebred poultry.  We also wish to join in a worthy effort to elevate this hobby to the highest standard of competition\, honor\, sportsmanship and fair dealing. \nFriday\, January 9th \n              1:00 pm        Showroom opens to receive birds \n              8:00 pm        Showroom PROMPTLY closes \n  \nSaturday\, January 10th  \n              6:00 am         Showroom will open \n              9:00 am         Judging will begin \n             12:00 pm        Free lunch for all exhibitors and guests \n              5:00 pm        Showroom PROMPTLY closes \n  \nSunday\, January 11th \n              7:00 am         Showroom opens \n              8:30 am         Final judging \n              9:00 am         Award presentation
URL:https://floridagatewayfairgrounds.org/event/2026-florida-sunshine-classic-double-show/
LOCATION:Exhibit Building B
CATEGORIES:Exhibit Building B,Not Organized by Florida Gateway Fairgrounds
ORGANIZER;CN="Florida Poultry Fanciers Association":MAILTO:FLORIDAPOULTRY@GMAIL.COM
END:VEVENT
BEGIN:VEVENT
DTSTART;TZID=America/New_York:20251007T173000
DTEND;TZID=America/New_York:20251007T173000
DTSTAMP:20260422T070456
CREATED:20250929T192637Z
LAST-MODIFIED:20250929T193053Z
UID:2834-1759858200-1759858200@floridagatewayfairgrounds.org
SUMMARY:Friends of the NRA Annual Banquet
DESCRIPTION:Join other champions of the Second Amendment for dinner\, games\, auctions\, and fun with a chance to win exclusive NRA guns\, gear\, décor\, and collectibles! \nFacebook: https://www.facebook.com/flfnra/
URL:https://floridagatewayfairgrounds.org/event/friends-of-the-nra-annual-banquet/
LOCATION:BANQUET HALL
CATEGORIES:Banquet Hall,Not Organized by Florida Gateway Fairgrounds
END:VEVENT
BEGIN:VEVENT
DTSTART;TZID=America/New_York:20251004T160000
DTEND;TZID=America/New_York:20251004T160000
DTSTAMP:20260422T070456
CREATED:20250909T153100Z
LAST-MODIFIED:20250909T155910Z
UID:2825-1759593600-1759593600@floridagatewayfairgrounds.org
SUMMARY:Barrel Race | NBHA (National Barrel Horse Association)
DESCRIPTION:The National Barrel Horse Association\, headquartered in Fort Worth\, Texas\, is the largest barrel racing organization in the world. In 1992\, the NBHA revolutionized the barrel racing industry by pioneering the divisional format\, which allows riders of all skill levels a chance to win money and prizes in barrel racing competition.
URL:https://floridagatewayfairgrounds.org/event/barrel-race-nbha-national-barrel-horse-association/
LOCATION:RODEO ARENA
CATEGORIES:Not Organized by Florida Gateway Fairgrounds,Rodeo Arena
END:VEVENT
BEGIN:VEVENT
DTSTART;TZID=America/New_York:20251004T090000
DTEND;TZID=America/New_York:20251005T150000
DTSTAMP:20260422T070456
CREATED:20250708T164145Z
LAST-MODIFIED:20250909T162114Z
UID:2789-1759568400-1759676400@floridagatewayfairgrounds.org
SUMMARY:Gun Show | Cliffhangers
DESCRIPTION:Gun\, Knife\, and Military collectors show bringing you the best Northeast Florida has to offer. We have an assortment of both new and old for every collector and sporting enthusiast around. Come see for yourself! BUY*SELL*TRADE*\nSATURDAY: 9:00 am – 4:00 pm\nSUNDAY: 9:00 am – 3:00 pm\nAdmission: $10
URL:https://floridagatewayfairgrounds.org/event/cliffhangers-gun-show-13/
LOCATION:BANQUET HALL
CATEGORIES:Banquet Hall,Not Organized by Florida Gateway Fairgrounds
END:VEVENT
BEGIN:VEVENT
DTSTART;TZID=America/New_York:20250918T090000
DTEND;TZID=America/New_York:20250918T150000
DTSTAMP:20260422T070456
CREATED:20250820T144047Z
LAST-MODIFIED:20250909T155942Z
UID:2813-1758186000-1758207600@floridagatewayfairgrounds.org
SUMMARY:Uplift Columbia | Living Hope\, Inc.
DESCRIPTION:Last year about 200 people and more than 20 different churches gathered with health providers and community leaders toshare vision and action!Connect with others to have a big impact and be part of the solution\,Reserve your seat and register today\, to join this movement of churches and leaders working toward one purpose\,Click to register and click vendor if your group or organization would like to reserve a table to share information. Click here
URL:https://floridagatewayfairgrounds.org/event/uplift-columbia-living-hope-inc/
LOCATION:BANQUET HALL
CATEGORIES:Banquet Hall,Not Organized by Florida Gateway Fairgrounds
END:VEVENT
BEGIN:VEVENT
DTSTART;TZID=America/New_York:20250915T180000
DTEND;TZID=America/New_York:20250915T200000
DTSTAMP:20260422T070456
CREATED:20250729T153106Z
LAST-MODIFIED:20250909T155934Z
UID:2807-1757959200-1757966400@floridagatewayfairgrounds.org
SUMMARY:Bring Back Care | Florida Voices for Health
DESCRIPTION:Tired of traveling long distances for medical care? We’re listening. Share your concerns at our Health Care Speak Out to help bring back care to North Florida. Hosted by For Florida’s Health and the Columbia County Wellness Collaborative. \n  \nTickets
URL:https://floridagatewayfairgrounds.org/event/bring-back-care-florida-voices-for-health/
LOCATION:RECEPTION HALL
CATEGORIES:Not Organized by Florida Gateway Fairgrounds
END:VEVENT
BEGIN:VEVENT
DTSTART;TZID=America/New_York:20250905T190000
DTEND;TZID=America/New_York:20250906T000000
DTSTAMP:20260422T070456
CREATED:20250819T120956Z
LAST-MODIFIED:20250905T160049Z
UID:2811-1757098800-1757116800@floridagatewayfairgrounds.org
SUMMARY:Off R Rocker B3 Rodeo
DESCRIPTION: Get Ready for the Off R Rocker B3 Rodeo! \nMark your calendars for September 5th & 6th and join us at the Florida Gateway Fairgrounds in Lake City\, FL for two action-packed days of rodeo thrills\, family fun\, and community spirit!\n What to Expect:• Heart-pounding bull riding\, barrel racing\, and bronc riding• Top pro rodeo athletes from across the country• Food trucks\, vendors\, mechanical bull• Music\, dancing\, and a whole lot of Western hospitality\n This isn’t just a rodeo — it’s a movement. Off R Rocker is proud to support and sponsor the next generation of rodeo athletes. Come cheer the cowboys and cowgirls on and be part of something bigger.\n🎟️ Tickets\n Location: Florida Gateway Fairgrounds\, Lake City\, FL Dates: Friday & Saturday\, September 5–6 Time: Gates open at 5:30PM – Rodeo starts at 7:00 PM\n Bring the whole family for a weekend you won’t forget. Whether you’re a die-hard rodeo fan or just looking for a good time\, the B3 Rodeo has something for everyone!\n Let’s Ride. Let’s Cheer. Let’s Get Off R Rocker!
URL:https://floridagatewayfairgrounds.org/event/off-r-rocker-b3-rodeo/
LOCATION:RODEO ARENA
CATEGORIES:Not Organized by Florida Gateway Fairgrounds,Rodeo Arena
ORGANIZER;CN="Off R Rocker":MAILTO:buckingbulls@offrrocker.com
END:VEVENT
BEGIN:VEVENT
DTSTART;VALUE=DATE:20250905
DTEND;VALUE=DATE:20250908
DTSTAMP:20260422T070456
CREATED:20250708T171507Z
LAST-MODIFIED:20250708T171837Z
UID:2795-1757030400-1757289599@floridagatewayfairgrounds.org
SUMMARY:Swim & Splash Expo with South East Spas
DESCRIPTION:Interested in buying a hot tub? Want to test a swim spa? Brave enough to cold plunge AND try the sauna? Stop by to test out our full product range.\nSeptember 5-7\, 2025In Lake City\, Florida\, at the Florida Gateway Fairgrounds! 164 SW Mary Ethel Lane\, FL\, United States\, Florida 32025
URL:https://floridagatewayfairgrounds.org/event/%f0%9d%97%a6%f0%9d%98%84%f0%9d%97%b6%f0%9d%97%ba-%f0%9d%97%a6%f0%9d%97%bd%f0%9d%97%b9%f0%9d%97%ae%f0%9d%98%80%f0%9d%97%b5-%f0%9d%97%98%f0%9d%98%85%f0%9d%97%bd%f0%9d%97%bc-with-%f0%9d%97%a6/
LOCATION:Exhibit Building B
CATEGORIES:Not Organized by Florida Gateway Fairgrounds
END:VEVENT
BEGIN:VEVENT
DTSTART;VALUE=DATE:20250802
DTEND;VALUE=DATE:20250803
DTSTAMP:20260422T070456
CREATED:20250624T170700Z
LAST-MODIFIED:20250708T162655Z
UID:2768-1754092800-1754179199@floridagatewayfairgrounds.org
SUMMARY:City Church Back to School Bash
DESCRIPTION:City Church and other Community Partners are coming together to provide FREE School Supplies & Haircuts for elementary students in our community followed with a morning of fun with waterslides. \n  \nFor more Information: City Church Facebook
URL:https://floridagatewayfairgrounds.org/event/city-church-back-to-school-bash/
LOCATION:RECEPTION HALL
CATEGORIES:Not Organized by Florida Gateway Fairgrounds,Reception Hall
END:VEVENT
BEGIN:VEVENT
DTSTART;VALUE=DATE:20250719
DTEND;VALUE=DATE:20250720
DTSTAMP:20260422T070456
CREATED:20250611T165619Z
LAST-MODIFIED:20250708T162546Z
UID:2756-1752883200-1752969599@floridagatewayfairgrounds.org
SUMMARY:Runnin’ For the Ca$h – Barrel Race
DESCRIPTION:For more information: https://www.facebook.com/RunninForTheCash
URL:https://floridagatewayfairgrounds.org/event/runnin-for-the-cah-barrel-race-6/
LOCATION:RODEO ARENA
CATEGORIES:Not Organized by Florida Gateway Fairgrounds,Rodeo Arena
END:VEVENT
END:VCALENDAR