BEGIN:VCALENDAR
VERSION:2.0
PRODID:-//Florida Gateway Fairgrounds formerly Columbia County Fairgrounds - ECPv6.15.20//NONSGML v1.0//EN
CALSCALE:GREGORIAN
METHOD:PUBLISH
X-ORIGINAL-URL:https://floridagatewayfairgrounds.org
X-WR-CALDESC:Events for Florida Gateway Fairgrounds formerly Columbia County Fairgrounds
REFRESH-INTERVAL;VALUE=DURATION:PT1H
X-Robots-Tag:noindex
X-PUBLISHED-TTL:PT1H
BEGIN:VTIMEZONE
TZID:America/New_York
BEGIN:DAYLIGHT
TZOFFSETFROM:-0500
TZOFFSETTO:-0400
TZNAME:EDT
DTSTART:20240310T070000
END:DAYLIGHT
BEGIN:STANDARD
TZOFFSETFROM:-0400
TZOFFSETTO:-0500
TZNAME:EST
DTSTART:20241103T060000
END:STANDARD
BEGIN:DAYLIGHT
TZOFFSETFROM:-0500
TZOFFSETTO:-0400
TZNAME:EDT
DTSTART:20250309T070000
END:DAYLIGHT
BEGIN:STANDARD
TZOFFSETFROM:-0400
TZOFFSETTO:-0500
TZNAME:EST
DTSTART:20251102T060000
END:STANDARD
BEGIN:DAYLIGHT
TZOFFSETFROM:-0500
TZOFFSETTO:-0400
TZNAME:EDT
DTSTART:20260308T070000
END:DAYLIGHT
BEGIN:STANDARD
TZOFFSETFROM:-0400
TZOFFSETTO:-0500
TZNAME:EST
DTSTART:20261101T060000
END:STANDARD
END:VTIMEZONE
BEGIN:VEVENT
DTSTART;TZID=America/New_York:20251023T150000
DTEND;TZID=America/New_York:20251023T190000
DTSTAMP:20260419T194504
CREATED:20250616T213228Z
LAST-MODIFIED:20250909T162214Z
UID:2766-1761231600-1761246000@floridagatewayfairgrounds.org
SUMMARY:Final Weigh-in | FGF Youth Livestock
DESCRIPTION:Today is the day we’ve all been waiting for! Weigh-in will start at 3 pm \n\nFor Additional information on the Youth Livestock Show\, visit the links below. \n  \nRegister Here \n  \nLivestock Rules \n  \nSchedule of Events \n  \nDownload Record Books \n\n\nThe 71st Annual Florida Gateway Fair and Livestock show will start on Friday\, October 24\, 2025\, and run through Sunday\, November 2\, 2025. Have fun on the midway with its games and rides! Visit the food court for all of your favorite vendors and stop in to see local businesses in the exhibit hall. Don’t forget to visit the livestock barn to see cows\, goats and pigs\, and the kids that have diligently worked with these animals.\n\nPurchase your tickets in advance: Coming Soon\nCalling all Artists and Crafters! We want to see your work at the fair. Visit the link below and read over the guide for more information.Arts and Crafts Contest – Rules and Information: coming soon\nMonday – Friday: Gates open at 5:00pmSaturday Gates open at 2:00pm\nSunday: Gates open at 12:00pm (noon)\nYou can check out the Florida Gateway Fairgrounds Facebook page to stay up-to-date: Florida Gateway Fairgrounds FacebookOr visit our website for more information: Florida Gateway Fairgrounds
URL:https://floridagatewayfairgrounds.org/event/final-weigh-in/
LOCATION:Livestock Barn
CATEGORIES:Florida Gateway Fair,Livestock Barn
ATTACH;FMTTYPE=image/jpeg:https://emm5cbskk8v.exactdn.com/wp-content/uploads/485391117_1195501005915687_8529600686823365746_n.jpg
ORGANIZER;CN="Florida Gateway Fairgrounds":MAILTO:info@floridagatewayfairgrounds.org
END:VEVENT
END:VCALENDAR