BEGIN:VCALENDAR
VERSION:2.0
PRODID:-//Florida Gateway Fairgrounds formerly Columbia County Fairgrounds - ECPv6.15.20//NONSGML v1.0//EN
CALSCALE:GREGORIAN
METHOD:PUBLISH
X-WR-CALNAME:Florida Gateway Fairgrounds formerly Columbia County Fairgrounds
X-ORIGINAL-URL:https://floridagatewayfairgrounds.org
X-WR-CALDESC:Events for Florida Gateway Fairgrounds formerly Columbia County Fairgrounds
REFRESH-INTERVAL;VALUE=DURATION:PT1H
X-Robots-Tag:noindex
X-PUBLISHED-TTL:PT1H
BEGIN:VTIMEZONE
TZID:America/New_York
BEGIN:DAYLIGHT
TZOFFSETFROM:-0500
TZOFFSETTO:-0400
TZNAME:EDT
DTSTART:20240310T070000
END:DAYLIGHT
BEGIN:STANDARD
TZOFFSETFROM:-0400
TZOFFSETTO:-0500
TZNAME:EST
DTSTART:20241103T060000
END:STANDARD
BEGIN:DAYLIGHT
TZOFFSETFROM:-0500
TZOFFSETTO:-0400
TZNAME:EDT
DTSTART:20250309T070000
END:DAYLIGHT
BEGIN:STANDARD
TZOFFSETFROM:-0400
TZOFFSETTO:-0500
TZNAME:EST
DTSTART:20251102T060000
END:STANDARD
BEGIN:DAYLIGHT
TZOFFSETFROM:-0500
TZOFFSETTO:-0400
TZNAME:EDT
DTSTART:20260308T070000
END:DAYLIGHT
BEGIN:STANDARD
TZOFFSETFROM:-0400
TZOFFSETTO:-0500
TZNAME:EST
DTSTART:20261101T060000
END:STANDARD
END:VTIMEZONE
BEGIN:VEVENT
DTSTART;VALUE=DATE:20251024
DTEND;VALUE=DATE:20251103
DTSTAMP:20260419T181335
CREATED:20250424T125303Z
LAST-MODIFIED:20250929T193728Z
UID:2727-1761264000-1762127999@floridagatewayfairgrounds.org
SUMMARY:71st Annual Florida Gateway Fair and Livestock Show
DESCRIPTION:The 71st Annual Florida Gateway Fair and Livestock show will start on Friday\, October 24\, 2025\, and run through Sunday\, November 2\, 2025. Have fun on the midway with its games and rides! Visit the food court for all of your favorite vendors and stop in to see local businesses in the exhibit hall. Don’t forget to visit the livestock barn to see cows\, goats and pigs\, and the kids that have diligently worked with these animals.\n\n Purchase your tickets in advance!\nCalling all Artists and Crafters! We want to see your work at the fair. Visit the link below and read over the guide for more information.Arts and Crafts Contest –  Rules and Information\nMonday – Friday: Gates open at 5:00pmSaturday Gates open at 2:00pm\nSunday: Gates open at 12:00pm (noon)\nYou can check out the Florida Gateway Fairgrounds Facebook page to stay up-to-date: Florida Gateway Fairgrounds FacebookOr visit our website for more information: Florida Gateway Fairgrounds
URL:https://floridagatewayfairgrounds.org/event/71st-annual-florida-gateway-fair-and-livestock-show/
LOCATION:MIDWAY
CATEGORIES:Florida Gateway Fair
ATTACH;FMTTYPE=image/jpeg:https://emm5cbskk8v.exactdn.com/wp-content/uploads/553040471_1225739259574467_920956583815157130_n.jpg
ORGANIZER;CN="Florida Gateway Fairgrounds":MAILTO:info@floridagatewayfairgrounds.org
END:VEVENT
BEGIN:VEVENT
DTSTART;TZID=America/New_York:20251028T190000
DTEND;TZID=America/New_York:20251028T210000
DTSTAMP:20260419T181335
CREATED:20250616T212754Z
LAST-MODIFIED:20250929T193528Z
UID:2763-1761678000-1761685200@floridagatewayfairgrounds.org
SUMMARY:Hog Show | Florida Gateway Fair and Livestock Show
DESCRIPTION:The 71st Annual Florida Gateway Fair and Livestock show will start on Friday\, October 24\, 2025\, and run through Sunday\, November 2\, 2025. Have fun on the midway with its games and rides! Visit the food court for all of your favorite vendors and stop in to see local businesses in the exhibit hall. Don’t forget to visit the livestock barn to see cows\, goats and pigs\, and the kids that have diligently worked with these animals.\n\n Purchase your tickets in advance!\nCalling all Artists and Crafters! We want to see your work at the fair. Visit the link below and read over the guide for more information.Arts and Crafts Contest –  Rules and Information\nMonday – Friday: Gates open at 5:00pmSaturday Gates open at 2:00pm\nSunday: Gates open at 12:00pm (noon)\nYou can check out the Florida Gateway Fairgrounds Facebook page to stay up-to-date: Florida Gateway Fairgrounds FacebookOr visit our website for more information: Florida Gateway Fairgrounds
URL:https://floridagatewayfairgrounds.org/event/2025-hog-show/
LOCATION:Livestock Barn
CATEGORIES:Florida Gateway Fair,Livestock Barn
ATTACH;FMTTYPE=image/jpeg:https://emm5cbskk8v.exactdn.com/wp-content/uploads/Untitled-design-27.jpg
ORGANIZER;CN="Florida Gateway Fairgrounds":MAILTO:info@floridagatewayfairgrounds.org
END:VEVENT
END:VCALENDAR