BEGIN:VCALENDAR
VERSION:2.0
PRODID:-//Florida Gateway Fairgrounds formerly Columbia County Fairgrounds - ECPv6.15.20//NONSGML v1.0//EN
CALSCALE:GREGORIAN
METHOD:PUBLISH
X-ORIGINAL-URL:https://floridagatewayfairgrounds.org
X-WR-CALDESC:Events for Florida Gateway Fairgrounds formerly Columbia County Fairgrounds
REFRESH-INTERVAL;VALUE=DURATION:PT1H
X-Robots-Tag:noindex
X-PUBLISHED-TTL:PT1H
BEGIN:VTIMEZONE
TZID:America/New_York
BEGIN:DAYLIGHT
TZOFFSETFROM:-0500
TZOFFSETTO:-0400
TZNAME:EDT
DTSTART:20190310T070000
END:DAYLIGHT
BEGIN:STANDARD
TZOFFSETFROM:-0400
TZOFFSETTO:-0500
TZNAME:EST
DTSTART:20191103T060000
END:STANDARD
BEGIN:DAYLIGHT
TZOFFSETFROM:-0500
TZOFFSETTO:-0400
TZNAME:EDT
DTSTART:20200308T070000
END:DAYLIGHT
BEGIN:STANDARD
TZOFFSETFROM:-0400
TZOFFSETTO:-0500
TZNAME:EST
DTSTART:20201101T060000
END:STANDARD
BEGIN:DAYLIGHT
TZOFFSETFROM:-0500
TZOFFSETTO:-0400
TZNAME:EDT
DTSTART:20210314T070000
END:DAYLIGHT
BEGIN:STANDARD
TZOFFSETFROM:-0400
TZOFFSETTO:-0500
TZNAME:EST
DTSTART:20211107T060000
END:STANDARD
END:VTIMEZONE
BEGIN:VEVENT
DTSTART;TZID=America/New_York:20200903T183000
DTEND;TZID=America/New_York:20200903T183000
DTSTAMP:20260425T111020
CREATED:20200804T164941Z
LAST-MODIFIED:20200804T164941Z
UID:1016-1599157800-1599157800@floridagatewayfairgrounds.org
SUMMARY:Livestock Meeting
DESCRIPTION:*Mandatory Exhibitor Meeting* \n(Exhibitor and a parent/guardian must attend one meeting)  \nThursday\, August 20\, 2020 – 6:30 pm \nThursday\, September 3\, 2020 – 6:30 pm \nThursday\, September 17\, 2020 – 6:30 pm \nThe meetings will be held in the Florida Gateway Fairgrounds Banquet Hall
URL:https://floridagatewayfairgrounds.org/event/livestock-meeting-2/
CATEGORIES:Banquet Hall
END:VEVENT
BEGIN:VEVENT
DTSTART;VALUE=DATE:20200905
DTEND;VALUE=DATE:20200906
DTSTAMP:20260425T111020
CREATED:20200817T203245Z
LAST-MODIFIED:20200817T203506Z
UID:1020-1599264000-1599350399@floridagatewayfairgrounds.org
SUMMARY:Sizzling Summer Swine Showcase
DESCRIPTION:For more information please send email  claudiachancey@yahoo.com or call 386-688-0743 \n  \nhttps://www.facebook.com/Sizzling-Summer-Swine-Showcase-113410857130650/?ref=page_internal
URL:https://floridagatewayfairgrounds.org/event/sizzling-summer-swine-showcase/
LOCATION:Livestock Barn
END:VEVENT
BEGIN:VEVENT
DTSTART;TZID=America/New_York:20200911T080000
DTEND;TZID=America/New_York:20200913T170000
DTSTAMP:20260425T111020
CREATED:20200901T204645Z
LAST-MODIFIED:20200901T204645Z
UID:1038-1599811200-1600016400@floridagatewayfairgrounds.org
SUMMARY:Gun Show
DESCRIPTION:
URL:https://floridagatewayfairgrounds.org/event/gun-show/
CATEGORIES:Banquet Hall
END:VEVENT
BEGIN:VEVENT
DTSTART;TZID=America/New_York:20200917T183000
DTEND;TZID=America/New_York:20200917T183000
DTSTAMP:20260425T111020
CREATED:20200804T165014Z
LAST-MODIFIED:20200804T165014Z
UID:1018-1600367400-1600367400@floridagatewayfairgrounds.org
SUMMARY:Livestock Meeting
DESCRIPTION:*Mandatory Exhibitor Meeting* \n(Exhibitor and a parent/guardian must attend one meeting)  \nThursday\, August 20\, 2020 – 6:30 pm \nThursday\, September 3\, 2020 – 6:30 pm \nThursday\, September 17\, 2020 – 6:30 pm \nThe meetings will be held in the Florida Gateway Fairgrounds Banquet Hall
URL:https://floridagatewayfairgrounds.org/event/livestock-meeting-3/
CATEGORIES:Banquet Hall
END:VEVENT
END:VCALENDAR